BEGIN:VCALENDAR
VERSION:2.0
PRODID:-//frequentis//frequentis.com//EN
BEGIN:VEVENT
DTSTART:20230912
DTEND:20230916
LOCATION:Excel - London
DTSTAMP:20260421T073104
SUMMARY:DSEI 2023
URL;VALUE=URI:https://www.dsei.co.uk, DSEI 2023
DESCRIPTION:DSEI connects governments, national armed forces, industry thought leaders and the entire defence & security supply chain on a global scale. With a range of valuable opportunities for networking, a platform for business, access to relevant content & live-action demonstrations, the DSEI community can strengthen relationships, share knowledge and engage in the latest capabilities across the exhibition’s Aerospace, Land, Naval, Security & Joint Zones. 
X-ALT-DESC;FMTTYPE=text/html:<!DOCTYPE HTML PUBLIC ""-//W3C//DTD HTML 3.2//EN""><HTML><BODY>\n<p>DSEI connects governments, national armed forces, industry thought leaders and the entire defence & security supply chain on a global scale. With a range of valuable opportunities for networking, a platform for business, access to relevant content & live-action demonstrations, the DSEI community can strengthen relationships, share knowledge and engage in the latest capabilities across the exhibition’s Aerospace, Land, Naval, Security & Joint Zones.</p>   \n</BODY></HTML>
UID:20260421T073104-20230912-20230916
END:VEVENT
END:VCALENDAR